BEGIN:VCALENDAR
VERSION:2.0
PRODID:https://www.kufer.de/kuferweb / DE
METHOD:PUBLISH
CALSCALE:GREGORIAN
X-WR-TIMEZONE:Europe/Berlin
BEGIN:VTIMEZONE
TZID:Europe/Berlin
X-LIC-LOCATION:Europe/Berlin
BEGIN:DAYLIGHT
TZOFFSETFROM:+0100
TZOFFSETTO:+0200
TZNAME:CEST
DTSTART:19700329T020000
RRULE:FREQ=YEARLY;INTERVAL=1;BYDAY=-1SU;BYMONTH=3
END:DAYLIGHT
BEGIN:STANDARD
TZOFFSETFROM:+0200
TZOFFSETTO:+0100
TZNAME:CET
DTSTART:19701025T030000
RRULE:FREQ=YEARLY;INTERVAL=1;BYDAY=-1SU;BYMONTH=10
END:STANDARD
END:VTIMEZONE
BEGIN:VEVENT
DTSTAMP:20260423T215359
DTSTART;TZID=Europe/Berlin:20260317T170000
DTEND;TZID=Europe/Berlin:20260317T183000
UID:MTU40800-20260317T170000@VHSTUTTLINGEN
SUMMARY:Französisch Niveau A1 für Teilnehmende ohne Vorkenntnisse Lehrbuch: On y va !, Hueber-Verlag, ISBN: 978-3-19-103325-5 (MTU40800) 
LOCATION:Tuttlingen, vhs-Kolleg, In Wöhrden 6, Kursraum 1.02, In Wöhrden 6, 78532 Tuttlingen
END:VEVENT
BEGIN:VEVENT
DTSTAMP:20260423T215359
DTSTART;TZID=Europe/Berlin:20260324T170000
DTEND;TZID=Europe/Berlin:20260324T183000
UID:MTU40800-20260324T170000@VHSTUTTLINGEN
SUMMARY:Französisch Niveau A1 für Teilnehmende ohne Vorkenntnisse Lehrbuch: On y va !, Hueber-Verlag, ISBN: 978-3-19-103325-5 (MTU40800) 
LOCATION:Tuttlingen, vhs-Kolleg, In Wöhrden 6, Kursraum 1.02, In Wöhrden 6, 78532 Tuttlingen
END:VEVENT
BEGIN:VEVENT
DTSTAMP:20260423T215359
DTSTART;TZID=Europe/Berlin:20260414T170000
DTEND;TZID=Europe/Berlin:20260414T183000
UID:MTU40800-20260414T170000@VHSTUTTLINGEN
SUMMARY:Französisch Niveau A1 für Teilnehmende ohne Vorkenntnisse Lehrbuch: On y va !, Hueber-Verlag, ISBN: 978-3-19-103325-5 (MTU40800) 
LOCATION:Tuttlingen, vhs-Kolleg, In Wöhrden 6, Kursraum 1.02, In Wöhrden 6, 78532 Tuttlingen
END:VEVENT
BEGIN:VEVENT
DTSTAMP:20260423T215359
DTSTART;TZID=Europe/Berlin:20260421T170000
DTEND;TZID=Europe/Berlin:20260421T183000
UID:MTU40800-20260421T170000@VHSTUTTLINGEN
SUMMARY:Französisch Niveau A1 für Teilnehmende ohne Vorkenntnisse Lehrbuch: On y va !, Hueber-Verlag, ISBN: 978-3-19-103325-5 (MTU40800) 
LOCATION:Tuttlingen, vhs-Kolleg, In Wöhrden 6, Kursraum 1.02, In Wöhrden 6, 78532 Tuttlingen
END:VEVENT
BEGIN:VEVENT
DTSTAMP:20260423T215359
DTSTART;TZID=Europe/Berlin:20260428T170000
DTEND;TZID=Europe/Berlin:20260428T183000
UID:MTU40800-20260428T170000@VHSTUTTLINGEN
SUMMARY:Französisch Niveau A1 für Teilnehmende ohne Vorkenntnisse Lehrbuch: On y va !, Hueber-Verlag, ISBN: 978-3-19-103325-5 (MTU40800) 
LOCATION:Tuttlingen, vhs-Kolleg, In Wöhrden 6, Kursraum 1.02, In Wöhrden 6, 78532 Tuttlingen
END:VEVENT
BEGIN:VEVENT
DTSTAMP:20260423T215359
DTSTART;TZID=Europe/Berlin:20260505T170000
DTEND;TZID=Europe/Berlin:20260505T183000
UID:MTU40800-20260505T170000@VHSTUTTLINGEN
SUMMARY:Französisch Niveau A1 für Teilnehmende ohne Vorkenntnisse Lehrbuch: On y va !, Hueber-Verlag, ISBN: 978-3-19-103325-5 (MTU40800) 
LOCATION:Tuttlingen, vhs-Kolleg, In Wöhrden 6, Kursraum 1.02, In Wöhrden 6, 78532 Tuttlingen
END:VEVENT
BEGIN:VEVENT
DTSTAMP:20260423T215359
DTSTART;TZID=Europe/Berlin:20260512T170000
DTEND;TZID=Europe/Berlin:20260512T183000
UID:MTU40800-20260512T170000@VHSTUTTLINGEN
SUMMARY:Französisch Niveau A1 für Teilnehmende ohne Vorkenntnisse Lehrbuch: On y va !, Hueber-Verlag, ISBN: 978-3-19-103325-5 (MTU40800) 
LOCATION:Tuttlingen, vhs-Kolleg, In Wöhrden 6, Kursraum 1.02, In Wöhrden 6, 78532 Tuttlingen
END:VEVENT
BEGIN:VEVENT
DTSTAMP:20260423T215359
DTSTART;TZID=Europe/Berlin:20260519T170000
DTEND;TZID=Europe/Berlin:20260519T183000
UID:MTU40800-20260519T170000@VHSTUTTLINGEN
SUMMARY:Französisch Niveau A1 für Teilnehmende ohne Vorkenntnisse Lehrbuch: On y va !, Hueber-Verlag, ISBN: 978-3-19-103325-5 (MTU40800) 
LOCATION:Tuttlingen, vhs-Kolleg, In Wöhrden 6, Kursraum 1.02, In Wöhrden 6, 78532 Tuttlingen
END:VEVENT
BEGIN:VEVENT
DTSTAMP:20260423T215359
DTSTART;TZID=Europe/Berlin:20260609T170000
DTEND;TZID=Europe/Berlin:20260609T183000
UID:MTU40800-20260609T170000@VHSTUTTLINGEN
SUMMARY:Französisch Niveau A1 für Teilnehmende ohne Vorkenntnisse Lehrbuch: On y va !, Hueber-Verlag, ISBN: 978-3-19-103325-5 (MTU40800) 
LOCATION:Tuttlingen, vhs-Kolleg, In Wöhrden 6, Kursraum 1.02, In Wöhrden 6, 78532 Tuttlingen
END:VEVENT
BEGIN:VEVENT
DTSTAMP:20260423T215359
DTSTART;TZID=Europe/Berlin:20260616T170000
DTEND;TZID=Europe/Berlin:20260616T183000
UID:MTU40800-20260616T170000@VHSTUTTLINGEN
SUMMARY:Französisch Niveau A1 für Teilnehmende ohne Vorkenntnisse Lehrbuch: On y va !, Hueber-Verlag, ISBN: 978-3-19-103325-5 (MTU40800) 
LOCATION:Tuttlingen, vhs-Kolleg, In Wöhrden 6, Kursraum 1.02, In Wöhrden 6, 78532 Tuttlingen
END:VEVENT
BEGIN:VEVENT
DTSTAMP:20260423T215359
DTSTART;TZID=Europe/Berlin:20260623T170000
DTEND;TZID=Europe/Berlin:20260623T183000
UID:MTU40800-20260623T170000@VHSTUTTLINGEN
SUMMARY:Französisch Niveau A1 für Teilnehmende ohne Vorkenntnisse Lehrbuch: On y va !, Hueber-Verlag, ISBN: 978-3-19-103325-5 (MTU40800) 
LOCATION:Tuttlingen, vhs-Kolleg, In Wöhrden 6, Kursraum 1.02, In Wöhrden 6, 78532 Tuttlingen
END:VEVENT
BEGIN:VEVENT
DTSTAMP:20260423T215359
DTSTART;TZID=Europe/Berlin:20260630T170000
DTEND;TZID=Europe/Berlin:20260630T183000
UID:MTU40800-20260630T170000@VHSTUTTLINGEN
SUMMARY:Französisch Niveau A1 für Teilnehmende ohne Vorkenntnisse Lehrbuch: On y va !, Hueber-Verlag, ISBN: 978-3-19-103325-5 (MTU40800) 
LOCATION:Tuttlingen, vhs-Kolleg, In Wöhrden 6, Kursraum 1.02, In Wöhrden 6, 78532 Tuttlingen
END:VEVENT
END:VCALENDAR