BEGIN:VCALENDAR
VERSION:2.0
PRODID:https://www.kufer.de/kuferweb / DE
METHOD:PUBLISH
CALSCALE:GREGORIAN
X-WR-TIMEZONE:Europe/Berlin
BEGIN:VTIMEZONE
TZID:Europe/Berlin
X-LIC-LOCATION:Europe/Berlin
BEGIN:DAYLIGHT
TZOFFSETFROM:+0100
TZOFFSETTO:+0200
TZNAME:CEST
DTSTART:19700329T020000
RRULE:FREQ=YEARLY;INTERVAL=1;BYDAY=-1SU;BYMONTH=3
END:DAYLIGHT
BEGIN:STANDARD
TZOFFSETFROM:+0200
TZOFFSETTO:+0100
TZNAME:CET
DTSTART:19701025T030000
RRULE:FREQ=YEARLY;INTERVAL=1;BYDAY=-1SU;BYMONTH=10
END:STANDARD
END:VTIMEZONE
BEGIN:VEVENT
DTSTAMP:20260422T053236
DTSTART;TZID=Europe/Berlin:20260710T081500
DTEND;TZID=Europe/Berlin:20260710T121500
UID:MTU4047276-20260710T081500@VHSTUTTLINGEN
SUMMARY:Integrationskurs Nr. 269 Modul 4 (MTU4047276) 
LOCATION:Tuttlingen, vhs-Kolleg, In Wöhrden 6, Kursraum 2.02, In Wöhrden 6, 78532 Tuttlingen
END:VEVENT
BEGIN:VEVENT
DTSTAMP:20260422T053236
DTSTART;TZID=Europe/Berlin:20260713T081500
DTEND;TZID=Europe/Berlin:20260713T121500
UID:MTU4047276-20260713T081500@VHSTUTTLINGEN
SUMMARY:Integrationskurs Nr. 269 Modul 4 (MTU4047276) 
LOCATION:Tuttlingen, vhs-Kolleg, In Wöhrden 6, Kursraum 2.02, In Wöhrden 6, 78532 Tuttlingen
END:VEVENT
BEGIN:VEVENT
DTSTAMP:20260422T053236
DTSTART;TZID=Europe/Berlin:20260714T081500
DTEND;TZID=Europe/Berlin:20260714T121500
UID:MTU4047276-20260714T081500@VHSTUTTLINGEN
SUMMARY:Integrationskurs Nr. 269 Modul 4 (MTU4047276) 
LOCATION:Tuttlingen, vhs-Kolleg, In Wöhrden 6, Kursraum 2.02, In Wöhrden 6, 78532 Tuttlingen
END:VEVENT
BEGIN:VEVENT
DTSTAMP:20260422T053236
DTSTART;TZID=Europe/Berlin:20260715T081500
DTEND;TZID=Europe/Berlin:20260715T121500
UID:MTU4047276-20260715T081500@VHSTUTTLINGEN
SUMMARY:Integrationskurs Nr. 269 Modul 4 (MTU4047276) 
LOCATION:Tuttlingen, vhs-Kolleg, In Wöhrden 6, Kursraum 2.02, In Wöhrden 6, 78532 Tuttlingen
END:VEVENT
BEGIN:VEVENT
DTSTAMP:20260422T053236
DTSTART;TZID=Europe/Berlin:20260716T081500
DTEND;TZID=Europe/Berlin:20260716T121500
UID:MTU4047276-20260716T081500@VHSTUTTLINGEN
SUMMARY:Integrationskurs Nr. 269 Modul 4 (MTU4047276) 
LOCATION:Tuttlingen, vhs-Kolleg, In Wöhrden 6, Kursraum 2.02, In Wöhrden 6, 78532 Tuttlingen
END:VEVENT
BEGIN:VEVENT
DTSTAMP:20260422T053236
DTSTART;TZID=Europe/Berlin:20260717T081500
DTEND;TZID=Europe/Berlin:20260717T121500
UID:MTU4047276-20260717T081500@VHSTUTTLINGEN
SUMMARY:Integrationskurs Nr. 269 Modul 4 (MTU4047276) 
LOCATION:Tuttlingen, vhs-Kolleg, In Wöhrden 6, Kursraum 2.02, In Wöhrden 6, 78532 Tuttlingen
END:VEVENT
BEGIN:VEVENT
DTSTAMP:20260422T053236
DTSTART;TZID=Europe/Berlin:20260720T081500
DTEND;TZID=Europe/Berlin:20260720T121500
UID:MTU4047276-20260720T081500@VHSTUTTLINGEN
SUMMARY:Integrationskurs Nr. 269 Modul 4 (MTU4047276) 
LOCATION:Tuttlingen, vhs-Kolleg, In Wöhrden 6, Kursraum 2.02, In Wöhrden 6, 78532 Tuttlingen
END:VEVENT
BEGIN:VEVENT
DTSTAMP:20260422T053236
DTSTART;TZID=Europe/Berlin:20260721T081500
DTEND;TZID=Europe/Berlin:20260721T121500
UID:MTU4047276-20260721T081500@VHSTUTTLINGEN
SUMMARY:Integrationskurs Nr. 269 Modul 4 (MTU4047276) 
LOCATION:Tuttlingen, vhs-Kolleg, In Wöhrden 6, Kursraum 2.02, In Wöhrden 6, 78532 Tuttlingen
END:VEVENT
BEGIN:VEVENT
DTSTAMP:20260422T053236
DTSTART;TZID=Europe/Berlin:20260722T081500
DTEND;TZID=Europe/Berlin:20260722T121500
UID:MTU4047276-20260722T081500@VHSTUTTLINGEN
SUMMARY:Integrationskurs Nr. 269 Modul 4 (MTU4047276) 
LOCATION:Tuttlingen, vhs-Kolleg, In Wöhrden 6, Kursraum 2.02, In Wöhrden 6, 78532 Tuttlingen
END:VEVENT
BEGIN:VEVENT
DTSTAMP:20260422T053236
DTSTART;TZID=Europe/Berlin:20260723T081500
DTEND;TZID=Europe/Berlin:20260723T121500
UID:MTU4047276-20260723T081500@VHSTUTTLINGEN
SUMMARY:Integrationskurs Nr. 269 Modul 4 (MTU4047276) 
LOCATION:Tuttlingen, vhs-Kolleg, In Wöhrden 6, Kursraum 2.02, In Wöhrden 6, 78532 Tuttlingen
END:VEVENT
BEGIN:VEVENT
DTSTAMP:20260422T053236
DTSTART;TZID=Europe/Berlin:20260724T081500
DTEND;TZID=Europe/Berlin:20260724T121500
UID:MTU4047276-20260724T081500@VHSTUTTLINGEN
SUMMARY:Integrationskurs Nr. 269 Modul 4 (MTU4047276) 
LOCATION:Tuttlingen, vhs-Kolleg, In Wöhrden 6, Kursraum 2.02, In Wöhrden 6, 78532 Tuttlingen
END:VEVENT
BEGIN:VEVENT
DTSTAMP:20260422T053236
DTSTART;TZID=Europe/Berlin:20260727T081500
DTEND;TZID=Europe/Berlin:20260727T121500
UID:MTU4047276-20260727T081500@VHSTUTTLINGEN
SUMMARY:Integrationskurs Nr. 269 Modul 4 (MTU4047276) 
LOCATION:Tuttlingen, vhs-Kolleg, In Wöhrden 6, Kursraum 2.02, In Wöhrden 6, 78532 Tuttlingen
END:VEVENT
BEGIN:VEVENT
DTSTAMP:20260422T053236
DTSTART;TZID=Europe/Berlin:20260728T081500
DTEND;TZID=Europe/Berlin:20260728T121500
UID:MTU4047276-20260728T081500@VHSTUTTLINGEN
SUMMARY:Integrationskurs Nr. 269 Modul 4 (MTU4047276) 
LOCATION:Tuttlingen, vhs-Kolleg, In Wöhrden 6, Kursraum 2.02, In Wöhrden 6, 78532 Tuttlingen
END:VEVENT
BEGIN:VEVENT
DTSTAMP:20260422T053236
DTSTART;TZID=Europe/Berlin:20260729T081500
DTEND;TZID=Europe/Berlin:20260729T121500
UID:MTU4047276-20260729T081500@VHSTUTTLINGEN
SUMMARY:Integrationskurs Nr. 269 Modul 4 (MTU4047276) 
LOCATION:Tuttlingen, vhs-Kolleg, In Wöhrden 6, Kursraum 2.02, In Wöhrden 6, 78532 Tuttlingen
END:VEVENT
BEGIN:VEVENT
DTSTAMP:20260422T053236
DTSTART;TZID=Europe/Berlin:20260914T081500
DTEND;TZID=Europe/Berlin:20260914T121500
UID:MTU4047276-20260914T081500@VHSTUTTLINGEN
SUMMARY:Integrationskurs Nr. 269 Modul 4 (MTU4047276) 
LOCATION:Tuttlingen, vhs-Kolleg, In Wöhrden 6, Kursraum 2.02, In Wöhrden 6, 78532 Tuttlingen
END:VEVENT
BEGIN:VEVENT
DTSTAMP:20260422T053236
DTSTART;TZID=Europe/Berlin:20260915T081500
DTEND;TZID=Europe/Berlin:20260915T121500
UID:MTU4047276-20260915T081500@VHSTUTTLINGEN
SUMMARY:Integrationskurs Nr. 269 Modul 4 (MTU4047276) 
LOCATION:Tuttlingen, vhs-Kolleg, In Wöhrden 6, Kursraum 2.02, In Wöhrden 6, 78532 Tuttlingen
END:VEVENT
BEGIN:VEVENT
DTSTAMP:20260422T053236
DTSTART;TZID=Europe/Berlin:20260916T081500
DTEND;TZID=Europe/Berlin:20260916T121500
UID:MTU4047276-20260916T081500@VHSTUTTLINGEN
SUMMARY:Integrationskurs Nr. 269 Modul 4 (MTU4047276) 
LOCATION:Tuttlingen, vhs-Kolleg, In Wöhrden 6, Kursraum 2.02, In Wöhrden 6, 78532 Tuttlingen
END:VEVENT
BEGIN:VEVENT
DTSTAMP:20260422T053236
DTSTART;TZID=Europe/Berlin:20260917T081500
DTEND;TZID=Europe/Berlin:20260917T121500
UID:MTU4047276-20260917T081500@VHSTUTTLINGEN
SUMMARY:Integrationskurs Nr. 269 Modul 4 (MTU4047276) 
LOCATION:Tuttlingen, vhs-Kolleg, In Wöhrden 6, Kursraum 2.02, In Wöhrden 6, 78532 Tuttlingen
END:VEVENT
BEGIN:VEVENT
DTSTAMP:20260422T053236
DTSTART;TZID=Europe/Berlin:20260918T081500
DTEND;TZID=Europe/Berlin:20260918T121500
UID:MTU4047276-20260918T081500@VHSTUTTLINGEN
SUMMARY:Integrationskurs Nr. 269 Modul 4 (MTU4047276) 
LOCATION:Tuttlingen, vhs-Kolleg, In Wöhrden 6, Kursraum 2.02, In Wöhrden 6, 78532 Tuttlingen
END:VEVENT
BEGIN:VEVENT
DTSTAMP:20260422T053236
DTSTART;TZID=Europe/Berlin:20260921T081500
DTEND;TZID=Europe/Berlin:20260921T121500
UID:MTU4047276-20260921T081500@VHSTUTTLINGEN
SUMMARY:Integrationskurs Nr. 269 Modul 4 (MTU4047276) 
LOCATION:Tuttlingen, vhs-Kolleg, In Wöhrden 6, Kursraum 2.02, In Wöhrden 6, 78532 Tuttlingen
END:VEVENT
END:VCALENDAR