BEGIN:VCALENDAR
VERSION:2.0
PRODID:https://www.kufer.de/kuferweb / DE
METHOD:PUBLISH
CALSCALE:GREGORIAN
X-WR-TIMEZONE:Europe/Berlin
BEGIN:VTIMEZONE
TZID:Europe/Berlin
X-LIC-LOCATION:Europe/Berlin
BEGIN:DAYLIGHT
TZOFFSETFROM:+0100
TZOFFSETTO:+0200
TZNAME:CEST
DTSTART:19700329T020000
RRULE:FREQ=YEARLY;INTERVAL=1;BYDAY=-1SU;BYMONTH=3
END:DAYLIGHT
BEGIN:STANDARD
TZOFFSETFROM:+0200
TZOFFSETTO:+0100
TZNAME:CET
DTSTART:19701025T030000
RRULE:FREQ=YEARLY;INTERVAL=1;BYDAY=-1SU;BYMONTH=10
END:STANDARD
END:VTIMEZONE
BEGIN:VEVENT
DTSTAMP:20260423T032919
DTSTART;TZID=Europe/Berlin:20260612T081500
DTEND;TZID=Europe/Berlin:20260612T121500
UID:MTU4047275-20260612T081500@VHSTUTTLINGEN
SUMMARY:Integrationskurs Nr. 269 Modul 3 (MTU4047275) 
LOCATION:Tuttlingen, vhs-Kolleg, In Wöhrden 6, Kursraum 2.02, In Wöhrden 6, 78532 Tuttlingen
END:VEVENT
BEGIN:VEVENT
DTSTAMP:20260423T032919
DTSTART;TZID=Europe/Berlin:20260615T081500
DTEND;TZID=Europe/Berlin:20260615T121500
UID:MTU4047275-20260615T081500@VHSTUTTLINGEN
SUMMARY:Integrationskurs Nr. 269 Modul 3 (MTU4047275) 
LOCATION:Tuttlingen, vhs-Kolleg, In Wöhrden 6, Kursraum 2.02, In Wöhrden 6, 78532 Tuttlingen
END:VEVENT
BEGIN:VEVENT
DTSTAMP:20260423T032919
DTSTART;TZID=Europe/Berlin:20260616T081500
DTEND;TZID=Europe/Berlin:20260616T121500
UID:MTU4047275-20260616T081500@VHSTUTTLINGEN
SUMMARY:Integrationskurs Nr. 269 Modul 3 (MTU4047275) 
LOCATION:Tuttlingen, vhs-Kolleg, In Wöhrden 6, Kursraum 2.02, In Wöhrden 6, 78532 Tuttlingen
END:VEVENT
BEGIN:VEVENT
DTSTAMP:20260423T032919
DTSTART;TZID=Europe/Berlin:20260617T081500
DTEND;TZID=Europe/Berlin:20260617T121500
UID:MTU4047275-20260617T081500@VHSTUTTLINGEN
SUMMARY:Integrationskurs Nr. 269 Modul 3 (MTU4047275) 
LOCATION:Tuttlingen, vhs-Kolleg, In Wöhrden 6, Kursraum 2.02, In Wöhrden 6, 78532 Tuttlingen
END:VEVENT
BEGIN:VEVENT
DTSTAMP:20260423T032919
DTSTART;TZID=Europe/Berlin:20260618T081500
DTEND;TZID=Europe/Berlin:20260618T121500
UID:MTU4047275-20260618T081500@VHSTUTTLINGEN
SUMMARY:Integrationskurs Nr. 269 Modul 3 (MTU4047275) 
LOCATION:Tuttlingen, vhs-Kolleg, In Wöhrden 6, Kursraum 2.02, In Wöhrden 6, 78532 Tuttlingen
END:VEVENT
BEGIN:VEVENT
DTSTAMP:20260423T032919
DTSTART;TZID=Europe/Berlin:20260619T081500
DTEND;TZID=Europe/Berlin:20260619T121500
UID:MTU4047275-20260619T081500@VHSTUTTLINGEN
SUMMARY:Integrationskurs Nr. 269 Modul 3 (MTU4047275) 
LOCATION:Tuttlingen, vhs-Kolleg, In Wöhrden 6, Kursraum 2.02, In Wöhrden 6, 78532 Tuttlingen
END:VEVENT
BEGIN:VEVENT
DTSTAMP:20260423T032919
DTSTART;TZID=Europe/Berlin:20260622T081500
DTEND;TZID=Europe/Berlin:20260622T121500
UID:MTU4047275-20260622T081500@VHSTUTTLINGEN
SUMMARY:Integrationskurs Nr. 269 Modul 3 (MTU4047275) 
LOCATION:Tuttlingen, vhs-Kolleg, In Wöhrden 6, Kursraum 2.02, In Wöhrden 6, 78532 Tuttlingen
END:VEVENT
BEGIN:VEVENT
DTSTAMP:20260423T032919
DTSTART;TZID=Europe/Berlin:20260623T081500
DTEND;TZID=Europe/Berlin:20260623T121500
UID:MTU4047275-20260623T081500@VHSTUTTLINGEN
SUMMARY:Integrationskurs Nr. 269 Modul 3 (MTU4047275) 
LOCATION:Tuttlingen, vhs-Kolleg, In Wöhrden 6, Kursraum 2.02, In Wöhrden 6, 78532 Tuttlingen
END:VEVENT
BEGIN:VEVENT
DTSTAMP:20260423T032919
DTSTART;TZID=Europe/Berlin:20260624T081500
DTEND;TZID=Europe/Berlin:20260624T121500
UID:MTU4047275-20260624T081500@VHSTUTTLINGEN
SUMMARY:Integrationskurs Nr. 269 Modul 3 (MTU4047275) 
LOCATION:Tuttlingen, vhs-Kolleg, In Wöhrden 6, Kursraum 2.02, In Wöhrden 6, 78532 Tuttlingen
END:VEVENT
BEGIN:VEVENT
DTSTAMP:20260423T032919
DTSTART;TZID=Europe/Berlin:20260625T081500
DTEND;TZID=Europe/Berlin:20260625T121500
UID:MTU4047275-20260625T081500@VHSTUTTLINGEN
SUMMARY:Integrationskurs Nr. 269 Modul 3 (MTU4047275) 
LOCATION:Tuttlingen, vhs-Kolleg, In Wöhrden 6, Kursraum 2.02, In Wöhrden 6, 78532 Tuttlingen
END:VEVENT
BEGIN:VEVENT
DTSTAMP:20260423T032919
DTSTART;TZID=Europe/Berlin:20260626T081500
DTEND;TZID=Europe/Berlin:20260626T121500
UID:MTU4047275-20260626T081500@VHSTUTTLINGEN
SUMMARY:Integrationskurs Nr. 269 Modul 3 (MTU4047275) 
LOCATION:Tuttlingen, vhs-Kolleg, In Wöhrden 6, Kursraum 2.02, In Wöhrden 6, 78532 Tuttlingen
END:VEVENT
BEGIN:VEVENT
DTSTAMP:20260423T032919
DTSTART;TZID=Europe/Berlin:20260629T081500
DTEND;TZID=Europe/Berlin:20260629T121500
UID:MTU4047275-20260629T081500@VHSTUTTLINGEN
SUMMARY:Integrationskurs Nr. 269 Modul 3 (MTU4047275) 
LOCATION:Tuttlingen, vhs-Kolleg, In Wöhrden 6, Kursraum 2.02, In Wöhrden 6, 78532 Tuttlingen
END:VEVENT
BEGIN:VEVENT
DTSTAMP:20260423T032919
DTSTART;TZID=Europe/Berlin:20260630T081500
DTEND;TZID=Europe/Berlin:20260630T121500
UID:MTU4047275-20260630T081500@VHSTUTTLINGEN
SUMMARY:Integrationskurs Nr. 269 Modul 3 (MTU4047275) 
LOCATION:Tuttlingen, vhs-Kolleg, In Wöhrden 6, Kursraum 2.02, In Wöhrden 6, 78532 Tuttlingen
END:VEVENT
BEGIN:VEVENT
DTSTAMP:20260423T032919
DTSTART;TZID=Europe/Berlin:20260701T081500
DTEND;TZID=Europe/Berlin:20260701T121500
UID:MTU4047275-20260701T081500@VHSTUTTLINGEN
SUMMARY:Integrationskurs Nr. 269 Modul 3 (MTU4047275) 
LOCATION:Tuttlingen, vhs-Kolleg, In Wöhrden 6, Kursraum 2.02, In Wöhrden 6, 78532 Tuttlingen
END:VEVENT
BEGIN:VEVENT
DTSTAMP:20260423T032919
DTSTART;TZID=Europe/Berlin:20260702T081500
DTEND;TZID=Europe/Berlin:20260702T121500
UID:MTU4047275-20260702T081500@VHSTUTTLINGEN
SUMMARY:Integrationskurs Nr. 269 Modul 3 (MTU4047275) 
LOCATION:Tuttlingen, vhs-Kolleg, In Wöhrden 6, Kursraum 2.02, In Wöhrden 6, 78532 Tuttlingen
END:VEVENT
BEGIN:VEVENT
DTSTAMP:20260423T032919
DTSTART;TZID=Europe/Berlin:20260703T081500
DTEND;TZID=Europe/Berlin:20260703T121500
UID:MTU4047275-20260703T081500@VHSTUTTLINGEN
SUMMARY:Integrationskurs Nr. 269 Modul 3 (MTU4047275) 
LOCATION:Tuttlingen, vhs-Kolleg, In Wöhrden 6, Kursraum 2.02, In Wöhrden 6, 78532 Tuttlingen
END:VEVENT
BEGIN:VEVENT
DTSTAMP:20260423T032919
DTSTART;TZID=Europe/Berlin:20260706T081500
DTEND;TZID=Europe/Berlin:20260706T121500
UID:MTU4047275-20260706T081500@VHSTUTTLINGEN
SUMMARY:Integrationskurs Nr. 269 Modul 3 (MTU4047275) 
LOCATION:Tuttlingen, vhs-Kolleg, In Wöhrden 6, Kursraum 2.02, In Wöhrden 6, 78532 Tuttlingen
END:VEVENT
BEGIN:VEVENT
DTSTAMP:20260423T032919
DTSTART;TZID=Europe/Berlin:20260707T081500
DTEND;TZID=Europe/Berlin:20260707T121500
UID:MTU4047275-20260707T081500@VHSTUTTLINGEN
SUMMARY:Integrationskurs Nr. 269 Modul 3 (MTU4047275) 
LOCATION:Tuttlingen, vhs-Kolleg, In Wöhrden 6, Kursraum 2.02, In Wöhrden 6, 78532 Tuttlingen
END:VEVENT
BEGIN:VEVENT
DTSTAMP:20260423T032919
DTSTART;TZID=Europe/Berlin:20260708T081500
DTEND;TZID=Europe/Berlin:20260708T121500
UID:MTU4047275-20260708T081500@VHSTUTTLINGEN
SUMMARY:Integrationskurs Nr. 269 Modul 3 (MTU4047275) 
LOCATION:Tuttlingen, vhs-Kolleg, In Wöhrden 6, Kursraum 2.02, In Wöhrden 6, 78532 Tuttlingen
END:VEVENT
BEGIN:VEVENT
DTSTAMP:20260423T032919
DTSTART;TZID=Europe/Berlin:20260709T081500
DTEND;TZID=Europe/Berlin:20260709T121500
UID:MTU4047275-20260709T081500@VHSTUTTLINGEN
SUMMARY:Integrationskurs Nr. 269 Modul 3 (MTU4047275) 
LOCATION:Tuttlingen, vhs-Kolleg, In Wöhrden 6, Kursraum 2.02, In Wöhrden 6, 78532 Tuttlingen
END:VEVENT
END:VCALENDAR