BEGIN:VCALENDAR
VERSION:2.0
PRODID:https://www.kufer.de/kuferweb / DE
METHOD:PUBLISH
CALSCALE:GREGORIAN
X-WR-TIMEZONE:Europe/Berlin
BEGIN:VTIMEZONE
TZID:Europe/Berlin
X-LIC-LOCATION:Europe/Berlin
BEGIN:DAYLIGHT
TZOFFSETFROM:+0100
TZOFFSETTO:+0200
TZNAME:CEST
DTSTART:19700329T020000
RRULE:FREQ=YEARLY;INTERVAL=1;BYDAY=-1SU;BYMONTH=3
END:DAYLIGHT
BEGIN:STANDARD
TZOFFSETFROM:+0200
TZOFFSETTO:+0100
TZNAME:CET
DTSTART:19701025T030000
RRULE:FREQ=YEARLY;INTERVAL=1;BYDAY=-1SU;BYMONTH=10
END:STANDARD
END:VTIMEZONE
BEGIN:VEVENT
DTSTAMP:20260421T044816
DTSTART;TZID=Europe/Berlin:20260428T081500
DTEND;TZID=Europe/Berlin:20260428T121500
UID:MTU4047274-20260428T081500@VHSTUTTLINGEN
SUMMARY:Integrationskurs Nr. 269 Modul 2 (MTU4047274) 
LOCATION:Tuttlingen, vhs-Kolleg, In Wöhrden 6, Kursraum 2.02, In Wöhrden 6, 78532 Tuttlingen
END:VEVENT
BEGIN:VEVENT
DTSTAMP:20260421T044816
DTSTART;TZID=Europe/Berlin:20260429T081500
DTEND;TZID=Europe/Berlin:20260429T121500
UID:MTU4047274-20260429T081500@VHSTUTTLINGEN
SUMMARY:Integrationskurs Nr. 269 Modul 2 (MTU4047274) 
LOCATION:Tuttlingen, vhs-Kolleg, In Wöhrden 6, Kursraum 2.02, In Wöhrden 6, 78532 Tuttlingen
END:VEVENT
BEGIN:VEVENT
DTSTAMP:20260421T044816
DTSTART;TZID=Europe/Berlin:20260430T081500
DTEND;TZID=Europe/Berlin:20260430T121500
UID:MTU4047274-20260430T081500@VHSTUTTLINGEN
SUMMARY:Integrationskurs Nr. 269 Modul 2 (MTU4047274) 
LOCATION:Tuttlingen, vhs-Kolleg, In Wöhrden 6, Kursraum 2.02, In Wöhrden 6, 78532 Tuttlingen
END:VEVENT
BEGIN:VEVENT
DTSTAMP:20260421T044816
DTSTART;TZID=Europe/Berlin:20260504T081500
DTEND;TZID=Europe/Berlin:20260504T121500
UID:MTU4047274-20260504T081500@VHSTUTTLINGEN
SUMMARY:Integrationskurs Nr. 269 Modul 2 (MTU4047274) 
LOCATION:Tuttlingen, vhs-Kolleg, In Wöhrden 6, Kursraum 2.02, In Wöhrden 6, 78532 Tuttlingen
END:VEVENT
BEGIN:VEVENT
DTSTAMP:20260421T044816
DTSTART;TZID=Europe/Berlin:20260505T081500
DTEND;TZID=Europe/Berlin:20260505T121500
UID:MTU4047274-20260505T081500@VHSTUTTLINGEN
SUMMARY:Integrationskurs Nr. 269 Modul 2 (MTU4047274) 
LOCATION:Tuttlingen, vhs-Kolleg, In Wöhrden 6, Kursraum 2.02, In Wöhrden 6, 78532 Tuttlingen
END:VEVENT
BEGIN:VEVENT
DTSTAMP:20260421T044816
DTSTART;TZID=Europe/Berlin:20260506T081500
DTEND;TZID=Europe/Berlin:20260506T121500
UID:MTU4047274-20260506T081500@VHSTUTTLINGEN
SUMMARY:Integrationskurs Nr. 269 Modul 2 (MTU4047274) 
LOCATION:Tuttlingen, vhs-Kolleg, In Wöhrden 6, Kursraum 2.02, In Wöhrden 6, 78532 Tuttlingen
END:VEVENT
BEGIN:VEVENT
DTSTAMP:20260421T044816
DTSTART;TZID=Europe/Berlin:20260507T081500
DTEND;TZID=Europe/Berlin:20260507T121500
UID:MTU4047274-20260507T081500@VHSTUTTLINGEN
SUMMARY:Integrationskurs Nr. 269 Modul 2 (MTU4047274) 
LOCATION:Tuttlingen, vhs-Kolleg, In Wöhrden 6, Kursraum 2.02, In Wöhrden 6, 78532 Tuttlingen
END:VEVENT
BEGIN:VEVENT
DTSTAMP:20260421T044816
DTSTART;TZID=Europe/Berlin:20260508T081500
DTEND;TZID=Europe/Berlin:20260508T121500
UID:MTU4047274-20260508T081500@VHSTUTTLINGEN
SUMMARY:Integrationskurs Nr. 269 Modul 2 (MTU4047274) 
LOCATION:Tuttlingen, vhs-Kolleg, In Wöhrden 6, Kursraum 2.02, In Wöhrden 6, 78532 Tuttlingen
END:VEVENT
BEGIN:VEVENT
DTSTAMP:20260421T044816
DTSTART;TZID=Europe/Berlin:20260511T081500
DTEND;TZID=Europe/Berlin:20260511T121500
UID:MTU4047274-20260511T081500@VHSTUTTLINGEN
SUMMARY:Integrationskurs Nr. 269 Modul 2 (MTU4047274) 
LOCATION:Tuttlingen, vhs-Kolleg, In Wöhrden 6, Kursraum 2.02, In Wöhrden 6, 78532 Tuttlingen
END:VEVENT
BEGIN:VEVENT
DTSTAMP:20260421T044816
DTSTART;TZID=Europe/Berlin:20260512T081500
DTEND;TZID=Europe/Berlin:20260512T121500
UID:MTU4047274-20260512T081500@VHSTUTTLINGEN
SUMMARY:Integrationskurs Nr. 269 Modul 2 (MTU4047274) 
LOCATION:Tuttlingen, vhs-Kolleg, In Wöhrden 6, Kursraum 2.02, In Wöhrden 6, 78532 Tuttlingen
END:VEVENT
BEGIN:VEVENT
DTSTAMP:20260421T044816
DTSTART;TZID=Europe/Berlin:20260513T081500
DTEND;TZID=Europe/Berlin:20260513T121500
UID:MTU4047274-20260513T081500@VHSTUTTLINGEN
SUMMARY:Integrationskurs Nr. 269 Modul 2 (MTU4047274) 
LOCATION:Tuttlingen, vhs-Kolleg, In Wöhrden 6, Kursraum 2.02, In Wöhrden 6, 78532 Tuttlingen
END:VEVENT
BEGIN:VEVENT
DTSTAMP:20260421T044816
DTSTART;TZID=Europe/Berlin:20260518T081500
DTEND;TZID=Europe/Berlin:20260518T121500
UID:MTU4047274-20260518T081500@VHSTUTTLINGEN
SUMMARY:Integrationskurs Nr. 269 Modul 2 (MTU4047274) 
LOCATION:Tuttlingen, vhs-Kolleg, In Wöhrden 6, Kursraum 2.02, In Wöhrden 6, 78532 Tuttlingen
END:VEVENT
BEGIN:VEVENT
DTSTAMP:20260421T044816
DTSTART;TZID=Europe/Berlin:20260519T081500
DTEND;TZID=Europe/Berlin:20260519T121500
UID:MTU4047274-20260519T081500@VHSTUTTLINGEN
SUMMARY:Integrationskurs Nr. 269 Modul 2 (MTU4047274) 
LOCATION:Tuttlingen, vhs-Kolleg, In Wöhrden 6, Kursraum 2.02, In Wöhrden 6, 78532 Tuttlingen
END:VEVENT
BEGIN:VEVENT
DTSTAMP:20260421T044816
DTSTART;TZID=Europe/Berlin:20260520T081500
DTEND;TZID=Europe/Berlin:20260520T121500
UID:MTU4047274-20260520T081500@VHSTUTTLINGEN
SUMMARY:Integrationskurs Nr. 269 Modul 2 (MTU4047274) 
LOCATION:Tuttlingen, vhs-Kolleg, In Wöhrden 6, Kursraum 2.02, In Wöhrden 6, 78532 Tuttlingen
END:VEVENT
BEGIN:VEVENT
DTSTAMP:20260421T044816
DTSTART;TZID=Europe/Berlin:20260521T081500
DTEND;TZID=Europe/Berlin:20260521T121500
UID:MTU4047274-20260521T081500@VHSTUTTLINGEN
SUMMARY:Integrationskurs Nr. 269 Modul 2 (MTU4047274) 
LOCATION:Tuttlingen, vhs-Kolleg, In Wöhrden 6, Kursraum 2.02, In Wöhrden 6, 78532 Tuttlingen
END:VEVENT
BEGIN:VEVENT
DTSTAMP:20260421T044816
DTSTART;TZID=Europe/Berlin:20260522T081500
DTEND;TZID=Europe/Berlin:20260522T121500
UID:MTU4047274-20260522T081500@VHSTUTTLINGEN
SUMMARY:Integrationskurs Nr. 269 Modul 2 (MTU4047274) 
LOCATION:Tuttlingen, vhs-Kolleg, In Wöhrden 6, Kursraum 2.02, In Wöhrden 6, 78532 Tuttlingen
END:VEVENT
BEGIN:VEVENT
DTSTAMP:20260421T044816
DTSTART;TZID=Europe/Berlin:20260608T081500
DTEND;TZID=Europe/Berlin:20260608T121500
UID:MTU4047274-20260608T081500@VHSTUTTLINGEN
SUMMARY:Integrationskurs Nr. 269 Modul 2 (MTU4047274) 
LOCATION:Tuttlingen, vhs-Kolleg, In Wöhrden 6, Kursraum 2.02, In Wöhrden 6, 78532 Tuttlingen
END:VEVENT
BEGIN:VEVENT
DTSTAMP:20260421T044816
DTSTART;TZID=Europe/Berlin:20260609T081500
DTEND;TZID=Europe/Berlin:20260609T121500
UID:MTU4047274-20260609T081500@VHSTUTTLINGEN
SUMMARY:Integrationskurs Nr. 269 Modul 2 (MTU4047274) 
LOCATION:Tuttlingen, vhs-Kolleg, In Wöhrden 6, Kursraum 2.02, In Wöhrden 6, 78532 Tuttlingen
END:VEVENT
BEGIN:VEVENT
DTSTAMP:20260421T044816
DTSTART;TZID=Europe/Berlin:20260610T081500
DTEND;TZID=Europe/Berlin:20260610T121500
UID:MTU4047274-20260610T081500@VHSTUTTLINGEN
SUMMARY:Integrationskurs Nr. 269 Modul 2 (MTU4047274) 
LOCATION:Tuttlingen, vhs-Kolleg, In Wöhrden 6, Kursraum 2.02, In Wöhrden 6, 78532 Tuttlingen
END:VEVENT
BEGIN:VEVENT
DTSTAMP:20260421T044816
DTSTART;TZID=Europe/Berlin:20260611T081500
DTEND;TZID=Europe/Berlin:20260611T121500
UID:MTU4047274-20260611T081500@VHSTUTTLINGEN
SUMMARY:Integrationskurs Nr. 269 Modul 2 (MTU4047274) 
LOCATION:Tuttlingen, vhs-Kolleg, In Wöhrden 6, Kursraum 2.02, In Wöhrden 6, 78532 Tuttlingen
END:VEVENT
END:VCALENDAR