BEGIN:VCALENDAR
VERSION:2.0
PRODID:https://www.kufer.de/kuferweb / DE
METHOD:PUBLISH
CALSCALE:GREGORIAN
X-WR-TIMEZONE:Europe/Berlin
BEGIN:VTIMEZONE
TZID:Europe/Berlin
X-LIC-LOCATION:Europe/Berlin
BEGIN:DAYLIGHT
TZOFFSETFROM:+0100
TZOFFSETTO:+0200
TZNAME:CEST
DTSTART:19700329T020000
RRULE:FREQ=YEARLY;INTERVAL=1;BYDAY=-1SU;BYMONTH=3
END:DAYLIGHT
BEGIN:STANDARD
TZOFFSETFROM:+0200
TZOFFSETTO:+0100
TZNAME:CET
DTSTART:19701025T030000
RRULE:FREQ=YEARLY;INTERVAL=1;BYDAY=-1SU;BYMONTH=10
END:STANDARD
END:VTIMEZONE
BEGIN:VEVENT
DTSTAMP:20260422T215126
DTSTART;TZID=Europe/Berlin:20260317T081500
DTEND;TZID=Europe/Berlin:20260317T121500
UID:MTU4047273-20260317T081500@VHSTUTTLINGEN
SUMMARY:Integrationskurs Nr. 269 Modul 1 (MTU4047273) 
LOCATION:Tuttlingen, vhs-Kolleg, In Wöhrden 6, Kursraum 2.02, In Wöhrden 6, 78532 Tuttlingen
END:VEVENT
BEGIN:VEVENT
DTSTAMP:20260422T215126
DTSTART;TZID=Europe/Berlin:20260318T081500
DTEND;TZID=Europe/Berlin:20260318T121500
UID:MTU4047273-20260318T081500@VHSTUTTLINGEN
SUMMARY:Integrationskurs Nr. 269 Modul 1 (MTU4047273) 
LOCATION:Tuttlingen, vhs-Kolleg, In Wöhrden 6, Kursraum 2.02, In Wöhrden 6, 78532 Tuttlingen
END:VEVENT
BEGIN:VEVENT
DTSTAMP:20260422T215126
DTSTART;TZID=Europe/Berlin:20260319T081500
DTEND;TZID=Europe/Berlin:20260319T121500
UID:MTU4047273-20260319T081500@VHSTUTTLINGEN
SUMMARY:Integrationskurs Nr. 269 Modul 1 (MTU4047273) 
LOCATION:Tuttlingen, vhs-Kolleg, In Wöhrden 6, Kursraum 2.02, In Wöhrden 6, 78532 Tuttlingen
END:VEVENT
BEGIN:VEVENT
DTSTAMP:20260422T215126
DTSTART;TZID=Europe/Berlin:20260320T081500
DTEND;TZID=Europe/Berlin:20260320T121500
UID:MTU4047273-20260320T081500@VHSTUTTLINGEN
SUMMARY:Integrationskurs Nr. 269 Modul 1 (MTU4047273) 
LOCATION:Tuttlingen, vhs-Kolleg, In Wöhrden 6, Kursraum 2.02, In Wöhrden 6, 78532 Tuttlingen
END:VEVENT
BEGIN:VEVENT
DTSTAMP:20260422T215126
DTSTART;TZID=Europe/Berlin:20260323T081500
DTEND;TZID=Europe/Berlin:20260323T121500
UID:MTU4047273-20260323T081500@VHSTUTTLINGEN
SUMMARY:Integrationskurs Nr. 269 Modul 1 (MTU4047273) 
LOCATION:Tuttlingen, vhs-Kolleg, In Wöhrden 6, Kursraum 2.02, In Wöhrden 6, 78532 Tuttlingen
END:VEVENT
BEGIN:VEVENT
DTSTAMP:20260422T215126
DTSTART;TZID=Europe/Berlin:20260324T081500
DTEND;TZID=Europe/Berlin:20260324T121500
UID:MTU4047273-20260324T081500@VHSTUTTLINGEN
SUMMARY:Integrationskurs Nr. 269 Modul 1 (MTU4047273) 
LOCATION:Tuttlingen, vhs-Kolleg, In Wöhrden 6, Kursraum 2.02, In Wöhrden 6, 78532 Tuttlingen
END:VEVENT
BEGIN:VEVENT
DTSTAMP:20260422T215126
DTSTART;TZID=Europe/Berlin:20260325T081500
DTEND;TZID=Europe/Berlin:20260325T121500
UID:MTU4047273-20260325T081500@VHSTUTTLINGEN
SUMMARY:Integrationskurs Nr. 269 Modul 1 (MTU4047273) 
LOCATION:Tuttlingen, vhs-Kolleg, In Wöhrden 6, Kursraum 2.02, In Wöhrden 6, 78532 Tuttlingen
END:VEVENT
BEGIN:VEVENT
DTSTAMP:20260422T215126
DTSTART;TZID=Europe/Berlin:20260326T081500
DTEND;TZID=Europe/Berlin:20260326T121500
UID:MTU4047273-20260326T081500@VHSTUTTLINGEN
SUMMARY:Integrationskurs Nr. 269 Modul 1 (MTU4047273) 
LOCATION:Tuttlingen, vhs-Kolleg, In Wöhrden 6, Kursraum 2.02, In Wöhrden 6, 78532 Tuttlingen
END:VEVENT
BEGIN:VEVENT
DTSTAMP:20260422T215126
DTSTART;TZID=Europe/Berlin:20260327T081500
DTEND;TZID=Europe/Berlin:20260327T121500
UID:MTU4047273-20260327T081500@VHSTUTTLINGEN
SUMMARY:Integrationskurs Nr. 269 Modul 1 (MTU4047273) 
LOCATION:Tuttlingen, vhs-Kolleg, In Wöhrden 6, Kursraum 2.02, In Wöhrden 6, 78532 Tuttlingen
END:VEVENT
BEGIN:VEVENT
DTSTAMP:20260422T215126
DTSTART;TZID=Europe/Berlin:20260413T081500
DTEND;TZID=Europe/Berlin:20260413T121500
UID:MTU4047273-20260413T081500@VHSTUTTLINGEN
SUMMARY:Integrationskurs Nr. 269 Modul 1 (MTU4047273) 
LOCATION:Tuttlingen, vhs-Kolleg, In Wöhrden 6, Kursraum 2.02, In Wöhrden 6, 78532 Tuttlingen
END:VEVENT
BEGIN:VEVENT
DTSTAMP:20260422T215126
DTSTART;TZID=Europe/Berlin:20260414T081500
DTEND;TZID=Europe/Berlin:20260414T121500
UID:MTU4047273-20260414T081500@VHSTUTTLINGEN
SUMMARY:Integrationskurs Nr. 269 Modul 1 (MTU4047273) 
LOCATION:Tuttlingen, vhs-Kolleg, In Wöhrden 6, Kursraum 2.02, In Wöhrden 6, 78532 Tuttlingen
END:VEVENT
BEGIN:VEVENT
DTSTAMP:20260422T215126
DTSTART;TZID=Europe/Berlin:20260415T081500
DTEND;TZID=Europe/Berlin:20260415T121500
UID:MTU4047273-20260415T081500@VHSTUTTLINGEN
SUMMARY:Integrationskurs Nr. 269 Modul 1 (MTU4047273) 
LOCATION:Tuttlingen, vhs-Kolleg, In Wöhrden 6, Kursraum 2.02, In Wöhrden 6, 78532 Tuttlingen
END:VEVENT
BEGIN:VEVENT
DTSTAMP:20260422T215126
DTSTART;TZID=Europe/Berlin:20260416T081500
DTEND;TZID=Europe/Berlin:20260416T121500
UID:MTU4047273-20260416T081500@VHSTUTTLINGEN
SUMMARY:Integrationskurs Nr. 269 Modul 1 (MTU4047273) 
LOCATION:Tuttlingen, vhs-Kolleg, In Wöhrden 6, Kursraum 2.02, In Wöhrden 6, 78532 Tuttlingen
END:VEVENT
BEGIN:VEVENT
DTSTAMP:20260422T215126
DTSTART;TZID=Europe/Berlin:20260417T081500
DTEND;TZID=Europe/Berlin:20260417T121500
UID:MTU4047273-20260417T081500@VHSTUTTLINGEN
SUMMARY:Integrationskurs Nr. 269 Modul 1 (MTU4047273) 
LOCATION:Tuttlingen, vhs-Kolleg, In Wöhrden 6, Kursraum 2.02, In Wöhrden 6, 78532 Tuttlingen
END:VEVENT
BEGIN:VEVENT
DTSTAMP:20260422T215126
DTSTART;TZID=Europe/Berlin:20260420T081500
DTEND;TZID=Europe/Berlin:20260420T121500
UID:MTU4047273-20260420T081500@VHSTUTTLINGEN
SUMMARY:Integrationskurs Nr. 269 Modul 1 (MTU4047273) 
LOCATION:Tuttlingen, vhs-Kolleg, In Wöhrden 6, Kursraum 2.02, In Wöhrden 6, 78532 Tuttlingen
END:VEVENT
BEGIN:VEVENT
DTSTAMP:20260422T215126
DTSTART;TZID=Europe/Berlin:20260421T081500
DTEND;TZID=Europe/Berlin:20260421T121500
UID:MTU4047273-20260421T081500@VHSTUTTLINGEN
SUMMARY:Integrationskurs Nr. 269 Modul 1 (MTU4047273) 
LOCATION:Tuttlingen, vhs-Kolleg, In Wöhrden 6, Kursraum 2.02, In Wöhrden 6, 78532 Tuttlingen
END:VEVENT
BEGIN:VEVENT
DTSTAMP:20260422T215126
DTSTART;TZID=Europe/Berlin:20260422T081500
DTEND;TZID=Europe/Berlin:20260422T121500
UID:MTU4047273-20260422T081500@VHSTUTTLINGEN
SUMMARY:Integrationskurs Nr. 269 Modul 1 (MTU4047273) 
LOCATION:Tuttlingen, vhs-Kolleg, In Wöhrden 6, Kursraum 2.02, In Wöhrden 6, 78532 Tuttlingen
END:VEVENT
BEGIN:VEVENT
DTSTAMP:20260422T215126
DTSTART;TZID=Europe/Berlin:20260423T081500
DTEND;TZID=Europe/Berlin:20260423T121500
UID:MTU4047273-20260423T081500@VHSTUTTLINGEN
SUMMARY:Integrationskurs Nr. 269 Modul 1 (MTU4047273) 
LOCATION:Tuttlingen, vhs-Kolleg, In Wöhrden 6, Kursraum 2.02, In Wöhrden 6, 78532 Tuttlingen
END:VEVENT
BEGIN:VEVENT
DTSTAMP:20260422T215126
DTSTART;TZID=Europe/Berlin:20260424T081500
DTEND;TZID=Europe/Berlin:20260424T121500
UID:MTU4047273-20260424T081500@VHSTUTTLINGEN
SUMMARY:Integrationskurs Nr. 269 Modul 1 (MTU4047273) 
LOCATION:Tuttlingen, vhs-Kolleg, In Wöhrden 6, Kursraum 2.02, In Wöhrden 6, 78532 Tuttlingen
END:VEVENT
BEGIN:VEVENT
DTSTAMP:20260422T215126
DTSTART;TZID=Europe/Berlin:20260427T081500
DTEND;TZID=Europe/Berlin:20260427T121500
UID:MTU4047273-20260427T081500@VHSTUTTLINGEN
SUMMARY:Integrationskurs Nr. 269 Modul 1 (MTU4047273) 
LOCATION:Tuttlingen, vhs-Kolleg, In Wöhrden 6, Kursraum 2.02, In Wöhrden 6, 78532 Tuttlingen
END:VEVENT
END:VCALENDAR