BEGIN:VCALENDAR
VERSION:2.0
PRODID:https://www.kufer.de/kuferweb / DE
METHOD:PUBLISH
CALSCALE:GREGORIAN
X-WR-TIMEZONE:Europe/Berlin
BEGIN:VTIMEZONE
TZID:Europe/Berlin
X-LIC-LOCATION:Europe/Berlin
BEGIN:DAYLIGHT
TZOFFSETFROM:+0100
TZOFFSETTO:+0200
TZNAME:CEST
DTSTART:19700329T020000
RRULE:FREQ=YEARLY;INTERVAL=1;BYDAY=-1SU;BYMONTH=3
END:DAYLIGHT
BEGIN:STANDARD
TZOFFSETFROM:+0200
TZOFFSETTO:+0100
TZNAME:CET
DTSTART:19701025T030000
RRULE:FREQ=YEARLY;INTERVAL=1;BYDAY=-1SU;BYMONTH=10
END:STANDARD
END:VTIMEZONE
BEGIN:VEVENT
DTSTAMP:20260422T041141
DTSTART;TZID=Europe/Berlin:20260703T180000
DTEND;TZID=Europe/Berlin:20260703T210000
UID:MTU20619-20260703T180000@VHSTUTTLINGEN
SUMMARY:Masken, Uschebti und Totem, Keramische Kleinplastik experimentell im Holzkohlebrand (MTU20619) 
LOCATION:Tuttlingen, vhs-Kolleg, In Wöhrden 6, Atelier 3.02, In Wöhrden 6, 78532 Tuttlingen
END:VEVENT
BEGIN:VEVENT
DTSTAMP:20260422T041141
DTSTART;TZID=Europe/Berlin:20260704T100000
DTEND;TZID=Europe/Berlin:20260704T170000
UID:MTU20619-20260704T100000@VHSTUTTLINGEN
SUMMARY:Masken, Uschebti und Totem, Keramische Kleinplastik experimentell im Holzkohlebrand (MTU20619) 
LOCATION:Tuttlingen, vhs-Kolleg, In Wöhrden 6, Atelier 3.02, In Wöhrden 6, 78532 Tuttlingen
END:VEVENT
BEGIN:VEVENT
DTSTAMP:20260422T041141
DTSTART;TZID=Europe/Berlin:20260705T100000
DTEND;TZID=Europe/Berlin:20260705T140000
UID:MTU20619-20260705T100000@VHSTUTTLINGEN
SUMMARY:Masken, Uschebti und Totem, Keramische Kleinplastik experimentell im Holzkohlebrand (MTU20619) 
LOCATION:Tuttlingen, vhs-Kolleg, In Wöhrden 6, Atelier 3.02, In Wöhrden 6, 78532 Tuttlingen
END:VEVENT
BEGIN:VEVENT
DTSTAMP:20260422T041141
DTSTART;TZID=Europe/Berlin:20260716T160000
DTEND;TZID=Europe/Berlin:20260716T180000
UID:MTU20619-20260716T160000@VHSTUTTLINGEN
SUMMARY:Masken, Uschebti und Totem, Keramische Kleinplastik experimentell im Holzkohlebrand (MTU20619) 
LOCATION:Tuttlingen, vhs-Kolleg, In Wöhrden 6, Atelier 3.02, In Wöhrden 6, 78532 Tuttlingen
END:VEVENT
END:VCALENDAR